BEGIN:VCALENDAR
VERSION:2.0
PRODID:-//Centro Juvenil Don Bosco León - ECPv4.9.0//NONSGML v1.0//EN
CALSCALE:GREGORIAN
METHOD:PUBLISH
X-WR-CALNAME:Centro Juvenil Don Bosco León
X-ORIGINAL-URL:https://www.cjboscoleon.org
X-WR-CALDESC:Eventos para Centro Juvenil Don Bosco León
BEGIN:VEVENT
DTSTART;TZID=UTC+1:20190603T080000
DTEND;TZID=UTC+1:20190603T170000
DTSTAMP:20260425T002333
CREATED:20190603T095304Z
LAST-MODIFIED:20190603T095304Z
UID:2325-1559548800-1559581200@www.cjboscoleon.org
SUMMARY:Convivencia Familiar Domingo 9 de Junio
DESCRIPTION:Este año\, el Centro Don Bosco cumple 50 años de vida\, y queremos conmemorarlo con un día de Convivencia Familiar aquí mismo en el Centro el próximo domingo 9 de junio. Queremos que sea un día donde poder compartir vida y estar juntos disfrutando de esta jornada de convivencia familiar\, para pequeños y grandes. Por ello nuestra propuesta es la siguiente: \n\n\n\n\n11.45h. \n\nAcogida y bienvenida a las familias.\n\n\n12.00h.  \n14.15h.\nPuertas abiertas (se podrá visitar los distintos talleres de FP y ESO en los pabellones del Centro). \nI Concentración de Vehículos Clásicos (se podrá disfrutar de esta exhibición de vehículos).\n\n\n12.00h.  \n13.00h.\nEucaristía en la Capilla (posibilidad de unirse a la Fiesta de la Unión de Antiguos Alumnos).\n\n\n13.00h.  \n14.00h.\nActividades y juegos de tiempo libre en el Patio del Centro (para pequeños y grandes).\n\n\n14.15h. \n \nPreparamos el pórtico para la comida compartida (cada familia trae la comida de casa\, pero con libertad de compartir con los demás). El AMPA del Colegio nos ofrecerá refrescos y diversos alimentos de picoteo.\n\n\n14.30h.\nComida compartida en los pórticos del Centro Don Bosco.\n\n\n15.45h.\nActividades de sobremesa. Bingo solidario\, torneos de juegos de mesa y talleres de manualidades.\n\n\n17.00h.\n\nEspectáculo para toda la familia. \n\n\n\n\nComo decíamos previamente\, queremos que sea una jornada para convivir y compartir todos juntos y celebrar el fin del curso 2018-2019 (aunque todavía nos quedarían muchas actividades por delante: Gala Final\, Campamento Urbano\, Ludoteca de Verano…). \nLa asistencia es totalmente gratuita y podéis uniros en el momento que prefiráis\, aunque os invitamos a participar de la jornada al completo. Aun así\, para una correcta organización de los espacios necesitamos saber con antelación las personas que vais a participar ese día. \nPara apuntaros lo podéis hacer a través del correo electrónico info@cjboscoleon.org\, llamando a los teléfonos 987 213 192 / 693 793 528 (también WhatsApp) o en el Centro Juvenil de lunes a viernes de 9.00 a 14.00 y de 16.30 a 19.30h. \n¡Os esperamos! \n  \n \n\n\n	\n
URL:https://www.cjboscoleon.org/evento/convivencia-familiar-domingo-9-de-junio/
CATEGORIES:Actividades
ATTACH;FMTTYPE=image/png:https://www.cjboscoleon.org/wp-content/uploads/2019/06/convivencia.png
END:VEVENT
END:VCALENDAR