BEGIN:VCALENDAR
VERSION:2.0
PRODID:-//Centro Juvenil Don Bosco León - ECPv4.9.0//NONSGML v1.0//EN
CALSCALE:GREGORIAN
METHOD:PUBLISH
X-WR-CALNAME:Centro Juvenil Don Bosco León
X-ORIGINAL-URL:https://www.cjboscoleon.org
X-WR-CALDESC:Eventos para Centro Juvenil Don Bosco León
BEGIN:VEVENT
DTSTART;TZID=UTC+1:20250310T080000
DTEND;TZID=UTC+1:20250310T170000
DTSTAMP:20260423T083852
CREATED:20250310T103647Z
LAST-MODIFIED:20250310T110807Z
UID:3686-1741593600-1741626000@www.cjboscoleon.org
SUMMARY:Celebración de los Símbolos - 15 de marzo
DESCRIPTION:Este sábado tendremos la Celebración de los Símbolos a partir de las 11.30h para todos aquellos que participan en los grupos de itinerario de los sábados (Duendes\, Saltimbanquis\, Andaina\, ADS\, Ados y Jóvenes) \nOs invitamos a las familias a partir de las 12.30h a que nos acompañéis en este momento especial de los grupos de itinerario. \n \n\n\n	\n
URL:https://www.cjboscoleon.org/evento/celebracion-de-los-simbolos-15-de-marzo/
ATTACH;FMTTYPE=image/png:https://www.cjboscoleon.org/wp-content/uploads/2025/03/CELEBRACION-de-los-simbolos.png
END:VEVENT
END:VCALENDAR